BEGIN:VCALENDAR
VERSION:2.0
PRODID:-//SVP Kanton St. Gallen //NONSGML Events //EN
CALSCALE:GREGORIAN
X-WR-CALNAME:SVP Kanton St. Gallen
BEGIN:VEVENT
CREATED:20190404T193302Z
UID:10502
DTEND:20191022T190000
DTSTART:20191022T180000
DTSTAMP:20260422T180724Z
LOCATION:
DESCRIPTION:
SUMMARY:Parteileitungssitzung
ORGANIZER:
URL;VALUE=URI:https://www.svp-sg.ch/aktuell/termine/parteileitungssitzung-6/
TRANSP:OPAQUE
END:VEVENT
END:VCALENDAR
