BEGIN:VCALENDAR
VERSION:2.0
PRODID:-//SVP Kanton St. Gallen //NONSGML Events //EN
CALSCALE:GREGORIAN
X-WR-CALNAME:SVP Kanton St. Gallen
BEGIN:VEVENT
CREATED:20211013T191303Z
UID:11932
DTEND:20211120T000000
DTSTART:20211120T000000
DTSTAMP:20260421T103629Z
LOCATION:
DESCRIPTION:
SUMMARY:Fraktionssitzung Kantonsratsfraktion inkl. Klausur
ORGANIZER:
URL;VALUE=URI:https://www.svp-sg.ch/aktuell/termine/fraktionssitzung-kantonsratsfraktion-inkl-klausur/
TRANSP:OPAQUE
END:VEVENT
END:VCALENDAR
