BEGIN:VCALENDAR
VERSION:2.0
PRODID:-//SVP Kanton St. Gallen //NONSGML Events //EN
CALSCALE:GREGORIAN
X-WR-CALNAME:SVP Kanton St. Gallen
BEGIN:VEVENT
CREATED:20211013T192731Z
UID:11979
DTEND:20220706T190000
DTSTART:20220706T183000
DTSTAMP:20260423T122642Z
LOCATION:
DESCRIPTION:
SUMMARY:Sitzung Parteileitung
ORGANIZER:
URL;VALUE=URI:https://www.svp-sg.ch/aktuell/termine/sitzung-parteileitung-4/
TRANSP:OPAQUE
END:VEVENT
END:VCALENDAR
