BEGIN:VCALENDAR
VERSION:2.0
PRODID:-//SVP Kanton St. Gallen //NONSGML Events //EN
CALSCALE:GREGORIAN
X-WR-CALNAME:SVP Kanton St. Gallen
BEGIN:VEVENT
CREATED:20211211T153408Z
UID:12586
DTEND:20220110T200000
DTSTART:20220110T190000
DTSTAMP:20260421T091233Z
LOCATION:St.Gallen\, Vorplatz Industrie- und Handelskammer
DESCRIPTION:
SUMMARY:Sessionsrückblick von Mike Egger &#038\; Lukas Reimann
ORGANIZER:
URL;VALUE=URI:https://www.svp-sg.ch/aktuell/termine/sessionsrueckblick-von-mike-egger-lukas-reimann/
TRANSP:OPAQUE
END:VEVENT
END:VCALENDAR
