BEGIN:VCALENDAR
VERSION:2.0
PRODID:-//SVP Kanton St. Gallen //NONSGML Events //EN
CALSCALE:GREGORIAN
X-WR-CALNAME:SVP Kanton St. Gallen
BEGIN:VEVENT
CREATED:20221209T180046Z
UID:13064
DTEND:20231025T200000
DTSTART:20231025T193000
DTSTAMP:20260422T084721Z
LOCATION:
DESCRIPTION:
SUMMARY:Delegiertenversammlung SVP Kanton St.Gallen
ORGANIZER:
URL;VALUE=URI:https://www.svp-sg.ch/aktuell/termine/delegiertenversammlung-svp-kanton-st-gallen-8/
TRANSP:OPAQUE
END:VEVENT
END:VCALENDAR
