BEGIN:VCALENDAR
VERSION:2.0
PRODID:-//SVP Kanton St. Gallen //NONSGML Events //EN
CALSCALE:GREGORIAN
X-WR-CALNAME:SVP Kanton St. Gallen
BEGIN:VEVENT
CREATED:20240129T164758Z
UID:14248
DTEND:T000000
DTSTART:T000000
DTSTAMP:20260425T172118Z
LOCATION:
DESCRIPTION:
SUMMARY:Kantonale Wahlen &#038\; Abstimmungssonntag 3. März 2024
ORGANIZER:
URL;VALUE=URI:https://www.svp-sg.ch/aktuell/termine/kantonale-wahlen-abstimmungssonntag-3-maerz-2024/
TRANSP:OPAQUE
END:VEVENT
END:VCALENDAR
