BEGIN:VCALENDAR
VERSION:2.0
PRODID:-//SVP Kanton St. Gallen //NONSGML Events //EN
CALSCALE:GREGORIAN
X-WR-CALNAME:SVP Kanton St. Gallen
BEGIN:VEVENT
CREATED:20251205T184401Z
UID:15435
DTEND:20260819T210000
DTSTART:20260819T200000
DTSTAMP:20260424T105500Z
LOCATION:
DESCRIPTION:
SUMMARY:Delegiertenversammlung SVP Kanton St.Gallen
ORGANIZER:
URL;VALUE=URI:https://www.svp-sg.ch/aktuell/termine/delegiertenversammlung-svp-kanton-st-gallen-17/
TRANSP:OPAQUE
END:VEVENT
END:VCALENDAR
