BEGIN:VCALENDAR
VERSION:2.0
PRODID:-//SVP Kanton St. Gallen //NONSGML Events //EN
CALSCALE:GREGORIAN
X-WR-CALNAME:SVP Kanton St. Gallen
BEGIN:VEVENT
CREATED:20251205T184838Z
UID:15447
DTEND:20260701T190000
DTSTART:20260701T183000
DTSTAMP:20260424T105617Z
LOCATION:
DESCRIPTION:
SUMMARY:Sitzung Parteileitung
ORGANIZER:
URL;VALUE=URI:https://www.svp-sg.ch/aktuell/termine/sitzung-parteileitung-18/
TRANSP:OPAQUE
END:VEVENT
END:VCALENDAR
