BEGIN:VCALENDAR
VERSION:2.0
PRODID:-//SVP Kanton St. Gallen //NONSGML Events //EN
CALSCALE:GREGORIAN
X-WR-CALNAME:SVP Kanton St. Gallen
BEGIN:VEVENT
CREATED:20260422T100012Z
UID:15644
DTEND:20260513T220000
DTSTART:20260513T190000
DTSTAMP:20260422T135059Z
LOCATION:Thurpark\, Volkshausstrasse 23\, 9630 Wattwil
DESCRIPTION:
SUMMARY:32. Churfirstentagung
ORGANIZER:Kantonalpartei SVP SG
URL;VALUE=URI:https://www.svp-sg.ch/aktuell/termine/32-churfirstentagung/
TRANSP:OPAQUE
END:VEVENT
END:VCALENDAR
